BEGIN:VCALENDAR
VERSION:2.0
CALSCALE:GREGORIAN
PRODID:-//Diputació de Barcelona//DibaCMS//EN
BEGIN:VEVENT
UID:3019
DTSTAMP:20260420T222620
DTSTART:20180425T170000
DTEND:20180425T190000
SUMMARY:Cinefòrum "Tornada a casa de la mare"
LOCATION:Carrer Hospital, 11 08512 Sant Hipòlit de Voltregà
METHOD:PUBLISH
X-WR-CALNAME:st.hipolit@santhipolitdevoltrega.cat
X-WR-TIMEZONE:Europe/Madrid
DESCRIPTION:CIMAE

URI:https://www.santhipolitdevoltrega.cat/actualitat/agenda/cineforum-tornada-a-casa-de-la-mare.html
CLASS:PUBLIC
END:VEVENT
END:VCALENDAR
