BEGIN:VCALENDAR
VERSION:2.0
CALSCALE:GREGORIAN
PRODID:-//Diputació de Barcelona//DibaCMS//EN
BEGIN:VEVENT
UID:3018
DTSTAMP:20260420T211131
DTSTART:20180309T170000
DTEND:20180309T183000
SUMMARY:Xerrada "Dona, sexualitat i menopausa"
LOCATION:Carrer Hospital, 11 08512 Sant Hipòlit de Voltregà
METHOD:PUBLISH
X-WR-CALNAME:st.hipolit@santhipolitdevoltrega.cat
X-WR-TIMEZONE:Europe/Madrid
DESCRIPTION:Des que comença el climateri es viuen certs canvis que afecten a la vida en general de les dones i, en concret, també a les seves realcions afectives i sexuals. Compartir un espai de reflexió i aprenentatge en aquest moment vital pot ajduar a millorar alguns aspectes d'aquesta etapa.

URI:https://www.santhipolitdevoltrega.cat/actualitat/agenda/xerrada-dona-sexualitat-i-menopausa.html
CLASS:PUBLIC
END:VEVENT
END:VCALENDAR
