BEGIN:VCALENDAR
VERSION:2.0
CALSCALE:GREGORIAN
PRODID:-//Diputació de Barcelona//DibaCMS//EN
BEGIN:VEVENT
UID:3017
DTSTAMP:20260421T013911
DTSTART:20180228T160000
DTEND:20180228T180000
SUMMARY:Xerrada - ansietat i depressió
LOCATION:Carrer Hospital, 11 08512 Sant Hipòlit de Voltregà
METHOD:PUBLISH
X-WR-CALNAME:st.hipolit@santhipolitdevoltrega.cat
X-WR-TIMEZONE:Europe/Madrid
DESCRIPTION:Xerrada sobre l'ansietat i la depressió.

URI:https://www.santhipolitdevoltrega.cat/actualitat/agenda/xerrada-ansietat-i-depressio.html
CLASS:PUBLIC
END:VEVENT
END:VCALENDAR
