BEGIN:VCALENDAR
VERSION:2.0
CALSCALE:GREGORIAN
PRODID:-//Diputació de Barcelona//DibaCMS//EN
BEGIN:VEVENT
UID:3014
DTSTAMP:20260421T002218
DTSTART:20180517T160000
DTEND:20180619T180000
SUMMARY:Crea i dissenya documents de text
LOCATION:Carrer Hospital, 11 08512 Sant Hipòlit de Voltregà
METHOD:PUBLISH
X-WR-CALNAME:st.hipolit@santhipolitdevoltrega.cat
X-WR-TIMEZONE:Europe/Madrid
DESCRIPTION:Curs d'informàtica per craer i dissenyar documents de text.

El curs s'inicia el 17 de maig de 2018 fins el 19 de juny de 2018, els dimarts i dijous de 16 a 18 hores.

URI:https://www.santhipolitdevoltrega.cat/actualitat/agenda/crea-i-dissenya-documents-de-text.html
CLASS:PUBLIC
END:VEVENT
END:VCALENDAR
