BEGIN:VCALENDAR
VERSION:2.0
CALSCALE:GREGORIAN
PRODID:-//Diputació de Barcelona//DibaCMS//EN
BEGIN:VEVENT
UID:3009
DTSTAMP:20260420T190914
DTSTART:20180301T171500
DTEND:20180301T181500
SUMMARY:Kahoot Jove
LOCATION:Carrer Batlle Serrallonga, 4 08512 Sant Hipòlit de Voltregà
METHOD:PUBLISH
X-WR-CALNAME:st.hipolit@santhipolitdevoltrega.cat
X-WR-TIMEZONE:Europe/Madrid
DESCRIPTION:Vine a jugar amb nosaltres i demostra el que saps!

URI:https://www.santhipolitdevoltrega.cat/actualitat/agenda/kahoot-jove.html
CLASS:PUBLIC
END:VEVENT
END:VCALENDAR
