BEGIN:VCALENDAR
VERSION:2.0
CALSCALE:GREGORIAN
PRODID:-//Diputació de Barcelona//DibaCMS//EN
BEGIN:VEVENT
UID:2977
DTSTAMP:20260420T210958
DTSTART:20180410T160000
DTEND:20180515T180000
SUMMARY:Retoc fotogràfic i presentacions digitals
LOCATION:Carrer Hospital, 11 08512 Sant Hipòlit de Voltregà
METHOD:PUBLISH
X-WR-CALNAME:st.hipolit@santhipolitdevoltrega.cat
X-WR-TIMEZONE:Europe/Madrid
DESCRIPTION:Curs d'informàtica de retoc fotogràfic i presentacions digitals.

URI:https://www.santhipolitdevoltrega.cat/actualitat/agenda/retoc-fotografic-i-presentacions-digitals.html
CLASS:PUBLIC
END:VEVENT
END:VCALENDAR
