BEGIN:VCALENDAR
VERSION:2.0
CALSCALE:GREGORIAN
PRODID:-//Diputació de Barcelona//DibaCMS//EN
BEGIN:VEVENT
UID:2975
DTSTAMP:20260420T191047
DTSTART:20180226T163000
DTEND:20180409T183000
SUMMARY:Menys dolor, més vida
LOCATION:Carrer Hospital, 11 08512 Sant Hipòlit de Voltregà
METHOD:PUBLISH
X-WR-CALNAME:st.hipolit@santhipolitdevoltrega.cat
X-WR-TIMEZONE:Europe/Madrid
DESCRIPTION:Taller per promoure el benestar i millora de la qualitat de vida de les persones grans afectades pel dolor i de les persones grans no afectades, però que desitgin tenir eines per prevenir-ho.

Els dilluns de 16.30 a 18.30 hores

URI:https://www.santhipolitdevoltrega.cat/actualitat/agenda/menys-dolor-mes-vida.html
CLASS:PUBLIC
END:VEVENT
END:VCALENDAR
