BEGIN:VCALENDAR
VERSION:2.0
CALSCALE:GREGORIAN
PRODID:-//Diputació de Barcelona//DibaCMS//EN
BEGIN:VEVENT
UID:2959
DTSTAMP:20260420T190818
DTSTART:20180216T200000
DTEND:20180218T140000
SUMMARY:IX Copa Generalitat
LOCATION:Passatge Victorià Oliveras de la Riva, S/N 08512 Sant Hipòlit de Voltregà
METHOD:PUBLISH
X-WR-CALNAME:st.hipolit@santhipolitdevoltrega.cat
X-WR-TIMEZONE:Europe/Madrid
DESCRIPTION:Sant Hipòlit de Voltregà els dies 16 a 18 de febrer de 2018 serà la seu de la Copa Nacional Catalana d'hoquei patins (equips masculins i femenins).

A la Copa Generalitat d’hoquei patins hi participen els dos primers classificats de cada grup de la primera fase de Nacional Catalana en un format de Final a 4. Les semifinals femenines tindran lloc divendres 16 al vespre  i els guanyadors jugaran la final dissabte 17 a les 12.30 h. Les masculines es disputaran dissabte 17 per la tarda i els guanyadors jugaran la final diumenge 18 a les 12.30 h.

URI:https://www.santhipolitdevoltrega.cat/actualitat/agenda/ix-copa-generalitat.html
CLASS:PUBLIC
END:VEVENT
END:VCALENDAR
