BEGIN:VCALENDAR
VERSION:2.0
CALSCALE:GREGORIAN
PRODID:-//Diputació de Barcelona//DibaCMS//EN
BEGIN:VEVENT
UID:2958
DTSTAMP:20260421T000119
DTSTART:20180217T130000
DTEND:20180217T160000
SUMMARY:Calçotada i espectacle del Playback Torelló
LOCATION:Carrer Hospital, 11 08512 Sant Hipòlit de Voltregà
METHOD:PUBLISH
X-WR-CALNAME:st.hipolit@santhipolitdevoltrega.cat
X-WR-TIMEZONE:Europe/Madrid
DESCRIPTION:Calçotada i espectacle del Playback Torelló que tindrà lloc a la Llar "Fundació Gallifa".

URI:https://www.santhipolitdevoltrega.cat/actualitat/agenda/calcotada-i-espectacle-del-playback-torello.html
CLASS:PUBLIC
END:VEVENT
END:VCALENDAR
