BEGIN:VCALENDAR
VERSION:2.0
CALSCALE:GREGORIAN
PRODID:-//Diputació de Barcelona//DibaCMS//EN
BEGIN:VEVENT
UID:2946
DTSTAMP:20260420T190834
DTSTART:20180209T190000
DTEND:20180209T200000
SUMMARY:Exposició pública del "Projecte d'Urbanització dels Carrers del Barri del Mallol"
LOCATION:Carrer de la Vinya , 2 08512 Sant Hipòlit de Voltregà
METHOD:PUBLISH
X-WR-CALNAME:st.hipolit@santhipolitdevoltrega.cat
X-WR-TIMEZONE:Europe/Madrid
DESCRIPTION:En motiu de l'exposició pública del "Projecte d'Urbanització dels Carrers del Bari del Mallol" i com a veïns de la zona, volem convidar-vos a la sessió informativa del projecte del projecte que tindrà lloc a la Biblioteca Marquès de Remisa, el dia 9 de febrer, a les 19 hores.

URI:https://www.santhipolitdevoltrega.cat/actualitat/agenda/exposicio-publica-del-projecte-durbanitzacio-dels-carrers-del-barri-del-mallol.html
CLASS:PUBLIC
END:VEVENT
END:VCALENDAR
