BEGIN:VCALENDAR
VERSION:2.0
CALSCALE:GREGORIAN
PRODID:-//Diputació de Barcelona//DibaCMS//EN
BEGIN:VEVENT
UID:2937
DTSTAMP:20260420T173321
DTSTART:20180203T193000
DTEND:20180202T200000
SUMMARY:Homenatge a les campiones del CP Voltregà femení
LOCATION:Passatge Victorià Oliveras de la Riva, S/N 08512 Sant Hipòlit de Voltregà
METHOD:PUBLISH
X-WR-CALNAME:st.hipolit@santhipolitdevoltrega.cat
X-WR-TIMEZONE:Europe/Madrid
DESCRIPTION:L’Ajuntament de Sant Hipòlit de Voltregà, abans del partit masculí de les 20h,  retrà homenatge a l’equip femení del Club Patí Voltregà, que ha estat guardonat per la Unió de Federacions Esportives de Catalunya (UFEC), com a millor equip català absolut en totes les categories esportives de l’any 2017.

Felicitats campiones!!

URI:https://www.santhipolitdevoltrega.cat/actualitat/agenda/2937-homenatge-a-les-campiones-del-cp-voltrega-femeni.html
CLASS:PUBLIC
END:VEVENT
END:VCALENDAR
