BEGIN:VCALENDAR
VERSION:2.0
CALSCALE:GREGORIAN
PRODID:-//Diputació de Barcelona//DibaCMS//EN
BEGIN:VEVENT
UID:2933
DTSTAMP:20260420T205023
DTSTART:20180224T213000
DTEND:20180224T233000
SUMMARY:El Tinent d'Inishmore
LOCATION:Carrer de l'Església,1 08512 Sant Hipòlit de Voltregà
METHOD:PUBLISH
X-WR-CALNAME:st.hipolit@santhipolitdevoltrega.cat
X-WR-TIMEZONE:Europe/Madrid
DESCRIPTION:La tranquil·litat de l’illa d’Inishmore (Irlanda) es veu alterada quan Davey troba una gat aparentment atropellat. Martin McDonagh aprofita aquest punt de partida per crear un vòrtex de sang i fetge gratuït, però perfectament justificat pels personatges, ambientat a l’Irlanda paramilititzada de l’INLA i l’IRA durant els 90’s. 

Habitualment comparat amb Tarantino, McDonagh va més enllà del thriller, aportant un toc d’humor anglès (sic!) a la seva obra. Conjuntament amb “El lisiat d’Inishmaan” i “The Banshees of Inisheer”( aquesta última mai editada per no ser prou bona segons McDonagh) , El “Tinent d’Inishmore” forma part de la triologia ambientada a les illes d’Aran. 

URI:https://www.santhipolitdevoltrega.cat/actualitat/agenda/2933-el-tinent-dinishmore.html
CLASS:PUBLIC
END:VEVENT
END:VCALENDAR
