BEGIN:VCALENDAR
VERSION:2.0
CALSCALE:GREGORIAN
PRODID:-//Diputació de Barcelona//DibaCMS//EN
BEGIN:VEVENT
UID:2929
DTSTAMP:20260420T173154
DTSTART:20180206T183000
DTEND:20180206T193000
SUMMARY:Reunió informativa - Llar del Jubilat
LOCATION:
METHOD:PUBLISH
X-WR-CALNAME:st.hipolit@santhipolitdevoltrega.cat
X-WR-TIMEZONE:Europe/Madrid
DESCRIPTION:L'Alcalde, Sr. Hipòlit Serra, i la Regidora de Benestar Social, Sra. Irene Suñé, convoquen a totes les persones interessades i usuàries de la Llar del Jubilat a la reunió informativa en la quees parlarà sobre la situació de la llar.

La reunió tindrà lloc, el dimarts dia 6 de febrer d'enguany, a les 18.30 hores, a la sala de plens de l'Ajuntament de Sant Hipòlit de Voltregà.

 

URI:https://www.santhipolitdevoltrega.cat/actualitat/agenda/2929-reunio-informativa-llar-del-jubilat.html
CLASS:PUBLIC
END:VEVENT
END:VCALENDAR
