BEGIN:VCALENDAR
VERSION:2.0
CALSCALE:GREGORIAN
PRODID:-//Diputació de Barcelona//DibaCMS//EN
BEGIN:VEVENT
UID:2924
DTSTAMP:20260420T204608
DTSTART:20180222T170000
DTEND:20180222T190000
SUMMARY:Assessoria d'Orientació Acadèmica
LOCATION:Carrer Batlle Serrallonga, 4 08512 Sant Hipòlit de Voltregà
METHOD:PUBLISH
X-WR-CALNAME:st.hipolit@santhipolitdevoltrega.cat
X-WR-TIMEZONE:Europe/Madrid
DESCRIPTION:Tens ganes de seguir estudiant? Saps què pots estudirar?

En aquestes assessories d’orientació acadèmica rebràs tota la informació relacionada amb la formació reglada, la formació ocupacional i quines opcions tens per reciclar-te.

T'esperem!

URI:https://www.santhipolitdevoltrega.cat/actualitat/agenda/2924-assessoria-dorientacio-academica.html
CLASS:PUBLIC
END:VEVENT
END:VCALENDAR
