BEGIN:VCALENDAR
VERSION:2.0
CALSCALE:GREGORIAN
PRODID:-//Diputació de Barcelona//DibaCMS//EN
BEGIN:VEVENT
UID:2914
DTSTAMP:20260420T175236
DTSTART:20180216T193000
DTEND:20180216T213000
SUMMARY:Els Fets de la Gleva i l'incendi de Sant Hipòlit de Voltregà - Repressió i violència al final de la Guerra de Successió
LOCATION:Carrer Bisbe Morgades, 1 08512 Sant Hipòlit de Voltregà
METHOD:PUBLISH
X-WR-CALNAME:st.hipolit@santhipolitdevoltrega.cat
X-WR-TIMEZONE:Europe/Madrid
DESCRIPTION:L’Ajuntament de Sant Hipòlit de Voltregà, amb la col·laboració del Centre d’Estudis del Voltreganès, organitza la conferència “Els fets de la Gleva i l’incendi de Sant Hipòlit de Voltregà – Repressió i violència al final de la Guerra de Successió”, a càrrec de Joaquim Albareda i Salvadó, historiador i catedràtic d’Història Moderna de la Universitat Pompeu Fabra de Barcelona, el qual, també, ens presentarà el seu estudi i anàlisi dels fets que van succeir a la Gleva i a Sant Hipòlit de Voltregà.

URI:https://www.santhipolitdevoltrega.cat/actualitat/agenda/els-fets-de-la-gleva-i-lincendi-de-sant-hipolit-de-voltrega-repressio-i-violencia-al-final-de-la-guerra-de-successio.html
CLASS:PUBLIC
END:VEVENT
END:VCALENDAR
