BEGIN:VCALENDAR
VERSION:2.0
CALSCALE:GREGORIAN
PRODID:-//Diputació de Barcelona//DibaCMS//EN
BEGIN:VEVENT
UID:2912
DTSTAMP:20260420T222510
DTSTART:20180202T170000
DTEND:20180202T190000
SUMMARY:I tu Kè en Saps de Sexe? Tens dubtes?
LOCATION:Carrer Batlle Serrallonga, 4 08512 Sant Hipòlit de Voltregà
METHOD:PUBLISH
X-WR-CALNAME:st.hipolit@santhipolitdevoltrega.cat
X-WR-TIMEZONE:Europe/Madrid
DESCRIPTION:Arrenquem l'assessoria de salut amb l'Elena Crespi i Asensio, psicòloga i assessora en sexualitat.

No et tallis, t'esperem de 17 a 19 h!!

 

URI:https://www.santhipolitdevoltrega.cat/actualitat/agenda/i-tu-ke-en-saps-de-sexe-tens-dubtes.html
CLASS:PUBLIC
END:VEVENT
END:VCALENDAR
