BEGIN:VCALENDAR
VERSION:2.0
CALSCALE:GREGORIAN
PRODID:-//Diputació de Barcelona//DibaCMS//EN
BEGIN:VEVENT
UID:2911
DTSTAMP:20260420T173125
DTSTART:20180205T173000
DTEND:20180205T183000
SUMMARY:Contes que fan pessigolles
LOCATION:Carrer de la Vinya , 2 08512 Sant Hipòlit de Voltregà
METHOD:PUBLISH
X-WR-CALNAME:st.hipolit@santhipolitdevoltrega.cat
X-WR-TIMEZONE:Europe/Madrid
DESCRIPTION:La rondallaire Rosa Fité serà a la Biblioteca Marquès de Remisa de Sant Hipòlit de Voltregà explicant uns contes molt divertits que faran riure a tothom. Fins i tot, els nens més tímids, tristos, moixos, avorrits, desinteressats o seriosos. Amb aquests contes que fan pessigolles se’ls despertarà un gran somriure a la cara que serà difícil d’esborrar. 

URI:https://www.santhipolitdevoltrega.cat/actualitat/agenda/2911-contes-que-fan-pessigolles.html
CLASS:PUBLIC
END:VEVENT
END:VCALENDAR
