BEGIN:VCALENDAR
VERSION:2.0
CALSCALE:GREGORIAN
PRODID:-//Diputació de Barcelona//DibaCMS//EN
BEGIN:VEVENT
UID:2905
DTSTAMP:20260420T190945
DTSTART:20180218T180000
DTEND:20180218T200000
SUMMARY:Tripula de Cia Farres Brothers
LOCATION:Passatge Victorià Oliveras de la Riva, S/N 08512 Sant Hipòlit de Voltregà
METHOD:PUBLISH
X-WR-CALNAME:st.hipolit@santhipolitdevoltrega.cat
X-WR-TIMEZONE:Europe/Madrid
DESCRIPTION:Dos científics il·luminats han descobert una nova manera de viatjar i avui ho exposen a un grup de passatgers. Després de molt treball i esforç, es veuen amb cor de mostrar-nos la seva gran evolució en els mitjans de transport: el Globus Estàtic. El Globus Estàtic viatja per l’espai, fregant els límits de la realitat, permetent anar a llocs que fins ara ningú sospitava que existissin. El viatge promet ser plàcid i poètic, tot i que pot sorgir més d’un contratemps que obligarà els passatgers a incorporar-se a la tripulació.

Premi FETEN 2016 al millor espectacle d'espai no convencional

Premi Fira de titelles de Lleida 2015 a la Millor escenografia + Menció Especial del Jurat Internacional

Temporada al Teatre Nacional de Catalunya, a la sala Tallers, l'abril del 2016 Tripula, espectacle recomanat per la Red de Teatros y Auditorios de titularidad pública.

URI:https://www.santhipolitdevoltrega.cat/actualitat/agenda/tripula-de-cia-farres-brothers.html
CLASS:PUBLIC
END:VEVENT
END:VCALENDAR
