BEGIN:VCALENDAR
VERSION:2.0
CALSCALE:GREGORIAN
PRODID:-//Diputació de Barcelona//DibaCMS//EN
BEGIN:VEVENT
UID:2904
DTSTAMP:20260421T032036
DTSTART:20180204T180000
DTEND:20180204T200000
SUMMARY:L'Impossibilista, màgia amb Sergi Buka
LOCATION:SALA PETITA D´OSONA 
Passatge Parés, 61
08512 - Sant Hipòlit de Voltregà 
METHOD:PUBLISH
X-WR-CALNAME:st.hipolit@santhipolitdevoltrega.cat
X-WR-TIMEZONE:Europe/Madrid
DESCRIPTION:L’Impossibilista ens endinsa a un viatge per explorar els límits entre la il·lusió i la realitat, en un mon d’imaginari i de desitjos. Ens convida a descobrir la màgia més propera. Una situació que ens permetrà gaudir d’una manera privilegiada d’una de les arts més impactants. Viure l’emoció de ser sorprès a curta distancia, on l’observador es el primer protagonista i “l’essència” el principal ingredient d’aquesta màgia tan especial.

URI:https://www.santhipolitdevoltrega.cat/actualitat/agenda/limpossibilista-magia-amb-sergi-buka.html
CLASS:PUBLIC
END:VEVENT
END:VCALENDAR
