BEGIN:VCALENDAR
VERSION:2.0
CALSCALE:GREGORIAN
PRODID:-//Diputació de Barcelona//DibaCMS//EN
BEGIN:VEVENT
UID:2885
DTSTAMP:20260420T190707
DTSTART:20180208T190000
DTEND:20180208T210000
SUMMARY:ANUL·LACIÓ DE CONFERÈNCIA | Què vol aprendre el cervell dels infants i adolescents?
LOCATION:Carrer Batlle Serrallonga, 4 08512 Sant Hipòlit de Voltregà
METHOD:PUBLISH
X-WR-CALNAME:st.hipolit@santhipolitdevoltrega.cat
X-WR-TIMEZONE:Europe/Madrid
DESCRIPTION:La conferència "Què vol aprendre el cervell dels intants i adolescents?", que havia de tenir lloc avui, dia 8 de gener d'enguany, a les 19h, a El Ganxo, queda anul·lada per indisposició del Sr. David Bueno.

Disculpeu les molèsties.

URI:https://www.santhipolitdevoltrega.cat/actualitat/agenda/anullacio-de-conferencia--que-vol-aprendre-el-cervell-dels-infants-i-adolescents.html
CLASS:PUBLIC
END:VEVENT
END:VCALENDAR
