BEGIN:VCALENDAR
VERSION:2.0
CALSCALE:GREGORIAN
PRODID:-//Diputació de Barcelona//DibaCMS//EN
BEGIN:VEVENT
UID:2878
DTSTAMP:20260420T191013
DTSTART:20180203T000000
DTEND:20180203T000000
SUMMARY:Carnestoltes del Voltreganès
LOCATION:
METHOD:PUBLISH
X-WR-CALNAME:st.hipolit@santhipolitdevoltrega.cat
X-WR-TIMEZONE:Europe/Madrid
DESCRIPTION:El carnestoltes del Voltreganès es prepara un any més per celebrar aquesta popular festa, en la què hi participen AMPES, entitats i veïns i veïnes del Voltreganès. La celebració començarà amb l'animada rua a les 18h des de la Rambla Catalunya, omplint els carrers de comparses, carrosses, gresca i xerinola. La rua acabarà a La Pista, on es farà el ball de carnestoltes, entrega de premis del joc del marro i concurs de cartells. 
 

URI:https://www.santhipolitdevoltrega.cat/actualitat/agenda/2878-carnestoltes-del-voltreganes.html
CLASS:PUBLIC
END:VEVENT
END:VCALENDAR
