BEGIN:VCALENDAR
VERSION:2.0
CALSCALE:GREGORIAN
PRODID:-//Diputació de Barcelona//DibaCMS//EN
BEGIN:VEVENT
UID:2877
DTSTAMP:20260420T155310
DTSTART:20180121T180000
DTEND:20180121T210000
SUMMARY:El Bosc com Balla de Sergio Escalona
LOCATION:Carrer de l'Església,1 08512 Sant Hipòlit de Voltregà
METHOD:PUBLISH
X-WR-CALNAME:st.hipolit@santhipolitdevoltrega.cat
X-WR-TIMEZONE:Europe/Madrid
DESCRIPTION:No tothom sap que la música va néixer als boscos. Quan una dona estava a punt de donar a llum es va endinsar al bosc per trobar l’arbre que guardava la cançó del seu fill. Aquesta cançó, cantada per primera vegada al néixer, acompanyaria el nen tota la seva vida, en els moments alegres i en els moments tristos.

URI:https://www.santhipolitdevoltrega.cat/actualitat/agenda/el-bosc-com-balla-de-sergio-escalona.html
CLASS:PUBLIC
END:VEVENT
END:VCALENDAR
