BEGIN:VCALENDAR
VERSION:2.0
CALSCALE:GREGORIAN
PRODID:-//Diputació de Barcelona//DibaCMS//EN
BEGIN:VEVENT
UID:2873
DTSTAMP:20260421T015606
DTSTART:20180614T103000
DTEND:20180614T130000
SUMMARY:Visita Oficina Mòbil d'Informació al Consumidor 
LOCATION:Passatge Victorià Oliveras de la Riva, S/N 08512 Sant Hipòlit de Voltregà
METHOD:PUBLISH
X-WR-CALNAME:st.hipolit@santhipolitdevoltrega.cat
X-WR-TIMEZONE:Europe/Madrid
DESCRIPTION:L'oficina mòbil d'informació al consumidor atendrà gratuïtament les vostres peticions, dubtes i queixes relacionades amb els drets dels consumidors, de temes com pot ser la telefonia mòbil i fixe, compres, serveis, etc.

HORARI:


	10:30 a 11:30 hores | Pàrquing del Pavelló municipal d'esports (La Pista), de Sant Hipòlit de Voltregà.
	12:00 a 13:00 hores | Rambla Catalunya, cantonada Av. Despujol, de Les Masies de Voltregà


URI:https://www.santhipolitdevoltrega.cat/actualitat/agenda/visita-oficina-mobil-dinformacio-al-consumidor-.html
CLASS:PUBLIC
END:VEVENT
END:VCALENDAR
