BEGIN:VCALENDAR
VERSION:2.0
CALSCALE:GREGORIAN
PRODID:-//Diputació de Barcelona//DibaCMS//EN
BEGIN:VEVENT
UID:2869
DTSTAMP:20260420T172345
DTSTART:20180118T203000
DTEND:20180118T230000
SUMMARY:La Piràmide de Maslow
LOCATION:
METHOD:PUBLISH
X-WR-CALNAME:st.hipolit@santhipolitdevoltrega.cat
X-WR-TIMEZONE:Europe/Madrid
DESCRIPTION:Presentació del nou programa de ràdio "LA PIRÀMIDE DE MASLOW", un projecte innovador de promoció comercial del comerç local, les fires i els mercats de Manlleu, el Voltreganès, el Collsacabra, Masies de Roda i Roda de Ter.

URI:https://www.santhipolitdevoltrega.cat/actualitat/agenda/la-piramide-de-maslow.html
CLASS:PUBLIC
END:VEVENT
END:VCALENDAR
