BEGIN:VCALENDAR
VERSION:2.0
CALSCALE:GREGORIAN
PRODID:-//Diputació de Barcelona//DibaCMS//EN
BEGIN:VEVENT
UID:2868
DTSTAMP:20260420T155149
DTSTART:20180125T091500
DTEND:20180301T113000
SUMMARY:Aprèn a fer anar el mòbil
LOCATION:Carrer Hospital, 11 08512 Sant Hipòlit de Voltregà
METHOD:PUBLISH
X-WR-CALNAME:st.hipolit@santhipolitdevoltrega.cat
X-WR-TIMEZONE:Europe/Madrid
DESCRIPTION:S’organitza el curs “Aprèn a fer anar el mòbil”  perquè la gent gran sàpiga utilitzar el més bàsic del telèfon mòbil.

La tecnologia avança tan de pressa que la gent gran sovint no pot seguir el ritme, però hi ha un element, el mòbil, que els pot ser útil en cas d'emergència. Teclats petits, lletres il·legibles, pantalles que de sobte s'enfosqueixen. El telèfon mòbil, eina vital per a la majoria, resulta massa complicat per a la gent gran. 

URI:https://www.santhipolitdevoltrega.cat/actualitat/agenda/2868-apren-a-fer-anar-el-mobil.html
CLASS:PUBLIC
END:VEVENT
END:VCALENDAR
