BEGIN:VCALENDAR
VERSION:2.0
CALSCALE:GREGORIAN
PRODID:-//Diputació de Barcelona//DibaCMS//EN
BEGIN:VEVENT
UID:2865
DTSTAMP:20260420T155118
DTSTART:20180124T103000
DTEND:20180124T113000
SUMMARY:Classes de LLENGUA CATALANA
LOCATION:Carrer Hospital, 11 08512 Sant Hipòlit de Voltregà
METHOD:PUBLISH
X-WR-CALNAME:st.hipolit@santhipolitdevoltrega.cat
X-WR-TIMEZONE:Europe/Madrid
DESCRIPTION:Vols millorar el teu nivell de llengua catalana? No vas tenir la oportunitat d'aprendre'n?

Ara tens la oportunitat de millorar el teu nivell o bé aprendre'n.

URI:https://www.santhipolitdevoltrega.cat/actualitat/agenda/2865-classes-de-llengua-catalana.html
CLASS:PUBLIC
END:VEVENT
END:VCALENDAR
