BEGIN:VCALENDAR
VERSION:2.0
CALSCALE:GREGORIAN
PRODID:-//Diputació de Barcelona//DibaCMS//EN
BEGIN:VEVENT
UID:2559
DTSTAMP:20260420T061325
DTSTART:20170902T150000
DTEND:20170902T165000
SUMMARY:CAMPIONAT DE BOTIFARRA
LOCATION:Bar Tennis Voltregà 
METHOD:PUBLISH
X-WR-CALNAME:st.hipolit@santhipolitdevoltrega.cat
X-WR-TIMEZONE:Europe/Madrid
DESCRIPTION:FM SHV 2017
URI:https://www.santhipolitdevoltrega.cat/actualitat/agenda/campionat-de-botifarra.html
CLASS:PUBLIC
END:VEVENT
END:VCALENDAR
