BEGIN:VCALENDAR
VERSION:2.0
CALSCALE:GREGORIAN
PRODID:-//Diputació de Barcelona//DibaCMS//EN
BEGIN:VEVENT
UID:2547
DTSTAMP:20260420T060115
DTSTART:20170828T211500
DTEND:20170828T213000
SUMMARY:Entrega de premis Concurs de fotografia Festival Artot 2017
LOCATION:Pati de La Catòlica 
METHOD:PUBLISH
X-WR-CALNAME:st.hipolit@santhipolitdevoltrega.cat
X-WR-TIMEZONE:Europe/Madrid
DESCRIPTION:FM SHV 2017
URI:https://www.santhipolitdevoltrega.cat/actualitat/agenda/entrega-de-premis-concurs-de-fotografia-festival-artot-2017.html
CLASS:PUBLIC
END:VEVENT
END:VCALENDAR
