BEGIN:VCALENDAR
VERSION:2.0
CALSCALE:GREGORIAN
PRODID:-//Diputació de Barcelona//DibaCMS//EN
BEGIN:VEVENT
UID:2544
DTSTAMP:20260420T044751
DTSTART:20170827T110000
DTEND:20170827T123000
SUMMARY:CanimalADA POPULAR
LOCATION:La Rampa 
METHOD:PUBLISH
X-WR-CALNAME:st.hipolit@santhipolitdevoltrega.cat
X-WR-TIMEZONE:Europe/Madrid
DESCRIPTION:FM SHV 2017
URI:https://www.santhipolitdevoltrega.cat/actualitat/agenda/canimalada-popular.html
CLASS:PUBLIC
END:VEVENT
END:VCALENDAR
