BEGIN:VCALENDAR
VERSION:2.0
CALSCALE:GREGORIAN
PRODID:-//Diputació de Barcelona//DibaCMS//EN
BEGIN:VEVENT
UID:2392
DTSTAMP:20260419T232506
DTSTART:20170520T200000
DTEND:20170520T210000
SUMMARY:CP Voltregà - Enrile PAS Alcoi
LOCATION:
METHOD:PUBLISH
X-WR-CALNAME:st.hipolit@santhipolitdevoltrega.cat
X-WR-TIMEZONE:Europe/Madrid
DESCRIPTION:Primer equip masculí - OK Lliga
URI:https://www.santhipolitdevoltrega.cat/actualitat/agenda/cp-voltrega-enrile-pas-alcoi-1494246578.html
CLASS:PUBLIC
END:VEVENT
END:VCALENDAR
