BEGIN:VCALENDAR
VERSION:2.0
CALSCALE:GREGORIAN
PRODID:-//Diputació de Barcelona//DibaCMS//EN
BEGIN:VEVENT
UID:2376
DTSTAMP:20260419T211336
DTSTART:20170503T170000
DTEND:20170503T210000
SUMMARY:Capta de sang a Sant Hipòlit de Voltregà
LOCATION:Carrer Batlle Serrallonga, 4 08512 Sant Hipòlit de Voltregà
METHOD:PUBLISH
X-WR-CALNAME:st.hipolit@santhipolitdevoltrega.cat
X-WR-TIMEZONE:Europe/Madrid
DESCRIPTION:
URI:https://www.santhipolitdevoltrega.cat/actualitat/agenda/capta-de-sang-a-sant-hipolit-de-voltrega.html
CLASS:PUBLIC
END:VEVENT
END:VCALENDAR
