BEGIN:VCALENDAR
VERSION:2.0
CALSCALE:GREGORIAN
PRODID:-//Diputació de Barcelona//DibaCMS//EN
BEGIN:VEVENT
UID:2374
DTSTAMP:20260420T012728
DTSTART:20170516T080000
DTEND:20170516T180000
SUMMARY:Cloenda del Cicle de passejades
LOCATION:
METHOD:PUBLISH
X-WR-CALNAME:st.hipolit@santhipolitdevoltrega.cat
X-WR-TIMEZONE:Europe/Madrid
DESCRIPTION:
URI:https://www.santhipolitdevoltrega.cat/actualitat/agenda/cloenda-del-cicle-de-passejades.html
CLASS:PUBLIC
END:VEVENT
END:VCALENDAR
