BEGIN:VCALENDAR
VERSION:2.0
CALSCALE:GREGORIAN
PRODID:-//Diputació de Barcelona//DibaCMS//EN
BEGIN:VEVENT
UID:2366
DTSTAMP:20260420T001914
DTSTART:20170504T163000
DTEND:20170504T183000
SUMMARY:Inici Taller Activa't a la Llar del Jubilat
LOCATION:
METHOD:PUBLISH
X-WR-CALNAME:st.hipolit@santhipolitdevoltrega.cat
X-WR-TIMEZONE:Europe/Madrid
DESCRIPTION:
URI:https://www.santhipolitdevoltrega.cat/actualitat/agenda/inici-taller-activat-a-la-llar-del-jubilat-1493275134.html
CLASS:PUBLIC
END:VEVENT
END:VCALENDAR
