BEGIN:VCALENDAR
VERSION:2.0
CALSCALE:GREGORIAN
PRODID:-//Diputació de Barcelona//DibaCMS//EN
BEGIN:VEVENT
UID:2365
DTSTAMP:20260419T213946
DTSTART:20170501T093000
DTEND:20170501T140000
SUMMARY:Jornada de Futbol Femení a Sant Hipòlit de Voltregà
LOCATION:Carrer de La Vinya S/N 08512 Sant Hipòlit de Voltregà
METHOD:PUBLISH
X-WR-CALNAME:st.hipolit@santhipolitdevoltrega.cat
X-WR-TIMEZONE:Europe/Madrid
DESCRIPTION:
URI:https://www.santhipolitdevoltrega.cat/actualitat/agenda/jornada-de-futbol-femeni-a-sant-hipolit-de-voltrega.html
CLASS:PUBLIC
END:VEVENT
END:VCALENDAR
