BEGIN:VCALENDAR
VERSION:2.0
CALSCALE:GREGORIAN
PRODID:-//Diputació de Barcelona//DibaCMS//EN
BEGIN:VEVENT
UID:2354
DTSTAMP:20260419T215236
DTSTART:20170515T190000
DTEND:20170515T200000
SUMMARY:Presentació del llibre Plouen poemes!
LOCATION:Carrer de la Vinya , 2 08512 Sant Hipòlit de Voltregà
METHOD:PUBLISH
X-WR-CALNAME:st.hipolit@santhipolitdevoltrega.cat
X-WR-TIMEZONE:Europe/Madrid
DESCRIPTION:
URI:https://www.santhipolitdevoltrega.cat/actualitat/agenda/presentacio-del-llibre-plouen-poemes.html
CLASS:PUBLIC
END:VEVENT
END:VCALENDAR
