BEGIN:VCALENDAR
VERSION:2.0
CALSCALE:GREGORIAN
PRODID:-//Diputació de Barcelona//DibaCMS//EN
BEGIN:VEVENT
UID:2353
DTSTAMP:20260419T230627
DTSTART:20170503T170000
DTEND:20161203T210000
SUMMARY:Ajuda'ns a salvar vides. Vine a donar sang!
LOCATION:Carrer Batlle Serrallonga, 4 08512 Sant Hipòlit de Voltregà
METHOD:PUBLISH
X-WR-CALNAME:st.hipolit@santhipolitdevoltrega.cat
X-WR-TIMEZONE:Europe/Madrid
DESCRIPTION:
URI:https://www.santhipolitdevoltrega.cat/actualitat/agenda/ajudans-a-salvar-vides-vine-a-donar-sang.html
CLASS:PUBLIC
END:VEVENT
END:VCALENDAR
