BEGIN:VCALENDAR
VERSION:2.0
CALSCALE:GREGORIAN
PRODID:-//Diputació de Barcelona//DibaCMS//EN
BEGIN:VEVENT
UID:2352
DTSTAMP:20260419T200910
DTSTART:20170427T190000
DTEND:20170427T200000
SUMMARY:Sessió de presentació de les obres de l'edifici del Mallol
LOCATION:Carrer de la Vinya , 2 08512 Sant Hipòlit de Voltregà
METHOD:PUBLISH
X-WR-CALNAME:st.hipolit@santhipolitdevoltrega.cat
X-WR-TIMEZONE:Europe/Madrid
DESCRIPTION:
URI:https://www.santhipolitdevoltrega.cat/actualitat/agenda/sessio-de-presentacio-de-les-obres-de-ledifici-del-mallol.html
CLASS:PUBLIC
END:VEVENT
END:VCALENDAR
