BEGIN:VCALENDAR
VERSION:2.0
CALSCALE:GREGORIAN
PRODID:-//Diputació de Barcelona//DibaCMS//EN
BEGIN:VEVENT
UID:2349
DTSTAMP:20260419T213523
DTSTART:20170427T163000
DTEND:20170427T183000
SUMMARY:Recital de poemes "La poesia, recital de poemes" a càrrec de Gabriel Salvans
LOCATION:
METHOD:PUBLISH
X-WR-CALNAME:st.hipolit@santhipolitdevoltrega.cat
X-WR-TIMEZONE:Europe/Madrid
DESCRIPTION:Organitza: Grup Obert Les Branques
URI:https://www.santhipolitdevoltrega.cat/actualitat/agenda/la-poesia-recital-de-poemes-a-carrec-de-gabriel-salvans.html
CLASS:PUBLIC
END:VEVENT
END:VCALENDAR
