BEGIN:VCALENDAR
VERSION:2.0
CALSCALE:GREGORIAN
PRODID:-//Diputació de Barcelona//DibaCMS//EN
BEGIN:VEVENT
UID:2341
DTSTAMP:20260419T215136
DTSTART:20170508T190000
DTEND:20170508T203000
SUMMARY:Xerrada "Orienta't en família"
LOCATION:
METHOD:PUBLISH
X-WR-CALNAME:st.hipolit@santhipolitdevoltrega.cat
X-WR-TIMEZONE:Europe/Madrid
DESCRIPTION:Orientació educativa per a les famílies d’alumnes d’ESO
URI:https://www.santhipolitdevoltrega.cat/actualitat/agenda/xerrada-orientat-en-familia-1491825449.html
CLASS:PUBLIC
END:VEVENT
END:VCALENDAR
