BEGIN:VCALENDAR
VERSION:2.0
CALSCALE:GREGORIAN
PRODID:-//Diputació de Barcelona//DibaCMS//EN
BEGIN:VEVENT
UID:2335
DTSTAMP:20260419T195403
DTSTART:20170429T180000
DTEND:20170429T193000
SUMMARY:CP Voltregà - CP Manlleu
LOCATION:
METHOD:PUBLISH
X-WR-CALNAME:st.hipolit@santhipolitdevoltrega.cat
X-WR-TIMEZONE:Europe/Madrid
DESCRIPTION:Primer equip femení
URI:https://www.santhipolitdevoltrega.cat/actualitat/agenda/cp-voltrega-cp-manlleu-1491807063.html
CLASS:PUBLIC
END:VEVENT
END:VCALENDAR
