BEGIN:VCALENDAR
VERSION:2.0
CALSCALE:GREGORIAN
PRODID:-//Diputació de Barcelona//DibaCMS//EN
BEGIN:VEVENT
UID:2328
DTSTAMP:20260419T211811
DTSTART:20170408T100000
DTEND:20170408T140000
SUMMARY:5a Trobada de Corals de la Gent Gran de Catalunya al Santuari de La Gleva
LOCATION:
METHOD:PUBLISH
X-WR-CALNAME:st.hipolit@santhipolitdevoltrega.cat
X-WR-TIMEZONE:Europe/Madrid
DESCRIPTION:Hora pendent de confirmar
URI:https://www.santhipolitdevoltrega.cat/actualitat/agenda/5a-trobada-de-corals-de-la-gent-gran-de-catalunya-al-santuari-de-la-gleva.html
CLASS:PUBLIC
END:VEVENT
END:VCALENDAR
