BEGIN:VCALENDAR
VERSION:2.0
CALSCALE:GREGORIAN
PRODID:-//Diputació de Barcelona//DibaCMS//EN
BEGIN:VEVENT
UID:2327
DTSTAMP:20260419T200824
DTSTART:20170422T140000
DTEND:20170422T163000
SUMMARY:GRAN ARROSSADA MAR I MUNTANYA
LOCATION:
METHOD:PUBLISH
X-WR-CALNAME:st.hipolit@santhipolitdevoltrega.cat
X-WR-TIMEZONE:Europe/Madrid
DESCRIPTION:
URI:https://www.santhipolitdevoltrega.cat/actualitat/agenda/gran-arrossada-mar-i-muntanya-1491460930.html
CLASS:PUBLIC
END:VEVENT
END:VCALENDAR
