BEGIN:VCALENDAR
VERSION:2.0
CALSCALE:GREGORIAN
PRODID:-//Diputació de Barcelona//DibaCMS//EN
BEGIN:VEVENT
UID:2326
DTSTAMP:20260419T210659
DTSTART:20170406T151500
DTEND:20170406T161500
SUMMARY:Caminada Saludable
LOCATION:
METHOD:PUBLISH
X-WR-CALNAME:st.hipolit@santhipolitdevoltrega.cat
X-WR-TIMEZONE:Europe/Madrid
DESCRIPTION:
URI:https://www.santhipolitdevoltrega.cat/actualitat/agenda/caminada-saludable-1491392608.html
CLASS:PUBLIC
END:VEVENT
END:VCALENDAR
