BEGIN:VCALENDAR
VERSION:2.0
CALSCALE:GREGORIAN
PRODID:-//Diputació de Barcelona//DibaCMS//EN
BEGIN:VEVENT
UID:2293
DTSTAMP:20260419T213859
DTSTART:20170425T180000
DTEND:20170425T193000
SUMMARY: Conferència a càrrec d'Antoni Tort "Aprendre de la pràctica educativa"
LOCATION:Carrer Batlle Serrallonga, 4 08512 Sant Hipòlit de Voltregà
METHOD:PUBLISH
X-WR-CALNAME:st.hipolit@santhipolitdevoltrega.cat
X-WR-TIMEZONE:Europe/Madrid
DESCRIPTION:
URI:https://www.santhipolitdevoltrega.cat/actualitat/agenda/-conferencia-a-carrec-dantoni-tort-aprendre-de-la-practica-educativa.html
CLASS:PUBLIC
END:VEVENT
END:VCALENDAR
