BEGIN:VCALENDAR
VERSION:2.0
CALSCALE:GREGORIAN
PRODID:-//Diputació de Barcelona//DibaCMS//EN
BEGIN:VEVENT
UID:2292
DTSTAMP:20260419T201118
DTSTART:20170423T100000
DTEND:20170423T190000
SUMMARY:2n Ral·li fotogràfic de Sant Jordi
LOCATION:
METHOD:PUBLISH
X-WR-CALNAME:st.hipolit@santhipolitdevoltrega.cat
X-WR-TIMEZONE:Europe/Madrid
DESCRIPTION:APRILIUM 2017
URI:https://www.santhipolitdevoltrega.cat/actualitat/agenda/2n-ralli-fotografic-de-sant-jordi.html
CLASS:PUBLIC
END:VEVENT
END:VCALENDAR
