BEGIN:VCALENDAR
VERSION:2.0
CALSCALE:GREGORIAN
PRODID:-//Diputació de Barcelona//DibaCMS//EN
BEGIN:VEVENT
UID:2291
DTSTAMP:20260419T224826
DTSTART:20170418T100000
DTEND:20170423T200000
SUMMARY:Drac gegant de Sant Jordi a Sant Hipòlit
LOCATION:al Pont del Torrent de Mitjavila 
METHOD:PUBLISH
X-WR-CALNAME:st.hipolit@santhipolitdevoltrega.cat
X-WR-TIMEZONE:Europe/Madrid
DESCRIPTION:
URI:https://www.santhipolitdevoltrega.cat/actualitat/agenda/drac-gegant-de-sant-jordi.html
CLASS:PUBLIC
END:VEVENT
END:VCALENDAR
