BEGIN:VCALENDAR
VERSION:2.0
CALSCALE:GREGORIAN
PRODID:-//Diputació de Barcelona//DibaCMS//EN
BEGIN:VEVENT
UID:2284
DTSTAMP:20260419T162459
DTSTART:20170328T193000
DTEND:20170328T203000
SUMMARY:Recepció oficial 
LOCATION:
METHOD:PUBLISH
X-WR-CALNAME:st.hipolit@santhipolitdevoltrega.cat
X-WR-TIMEZONE:Europe/Madrid
DESCRIPTION:A l'equip del CPVoltregà femení, campiones de la Copa d´Europa 2017 i als dos integrants del CAR CP Voltregà, Anna Molas i Carles Baucells, guanyadors de la medalla d'or.
URI:https://www.santhipolitdevoltrega.cat/actualitat/agenda/recepcio-oficial-.html
CLASS:PUBLIC
END:VEVENT
END:VCALENDAR
