BEGIN:VCALENDAR
VERSION:2.0
CALSCALE:GREGORIAN
PRODID:-//Diputació de Barcelona//DibaCMS//EN
BEGIN:VEVENT
UID:2199
DTSTAMP:20260419T144329
DTSTART:20170308T080000
DTEND:20170308T180000
SUMMARY:Caminada a Esparreguera
LOCATION:
METHOD:PUBLISH
X-WR-CALNAME:st.hipolit@santhipolitdevoltrega.cat
X-WR-TIMEZONE:Europe/Madrid
DESCRIPTION:A cent cap als cent
URI:https://www.santhipolitdevoltrega.cat/actualitat/agenda/caminada-a-esparreguera.html
CLASS:PUBLIC
END:VEVENT
END:VCALENDAR
