BEGIN:VCALENDAR
VERSION:2.0
CALSCALE:GREGORIAN
PRODID:-//Diputació de Barcelona//DibaCMS//EN
BEGIN:VEVENT
UID:2145
DTSTAMP:20260419T161802
DTSTART:20170207T180000
DTEND:20170207T193000
SUMMARY:Com i per a què eduquen les famílies avui?
LOCATION:Ajuntament de Les Masies de Voltregà 
METHOD:PUBLISH
X-WR-CALNAME:st.hipolit@santhipolitdevoltrega.cat
X-WR-TIMEZONE:Europe/Madrid
DESCRIPTION:A càrrec de Jordi Collet (GREUV/UVic)
URI:https://www.santhipolitdevoltrega.cat/actualitat/agenda/com-i-per-a-que-eduquen-les-families-avui.html
CLASS:PUBLIC
END:VEVENT
END:VCALENDAR
