BEGIN:VCALENDAR
VERSION:2.0
CALSCALE:GREGORIAN
PRODID:-//Diputació de Barcelona//DibaCMS//EN
BEGIN:VEVENT
UID:1882
DTSTAMP:20260419T142450
DTSTART:20161227T170000
DTEND:20161227T200000
SUMMARY:SANHIJOC Parc de Nadal
LOCATION:Passatge Victorià Oliveras de la Riva, S/N 08512 Sant Hipòlit de Voltregà
METHOD:PUBLISH
X-WR-CALNAME:st.hipolit@santhipolitdevoltrega.cat
X-WR-TIMEZONE:Europe/Madrid
DESCRIPTION:
URI:https://www.santhipolitdevoltrega.cat/actualitat/agenda/sanhijoc-parc-de-nadal.html
CLASS:PUBLIC
END:VEVENT
END:VCALENDAR
